BEGIN:VCALENDAR
VERSION:2.0
PRODID:spatie/icalendar-generator
DESCRIPTION:Veranstaltungen von SV Falke Sohren e.V.
X-WR-CALDESC:Veranstaltungen von SV Falke Sohren e.V.
REFRESH-INTERVAL;VALUE=DURATION:PT1440M
X-PUBLISHED-TTL:PT1440M
BEGIN:VTIMEZONE
TZID:Europe/Berlin
BEGIN:STANDARD
DTSTART:20241027T030000Z
TZOFFSETFROM:+0200
TZOFFSETTO:+0100
END:STANDARD
BEGIN:DAYLIGHT
DTSTART:20250330T020000Z
TZOFFSETFROM:+0100
TZOFFSETTO:+0200
END:DAYLIGHT
BEGIN:STANDARD
DTSTART:20251026T030000Z
TZOFFSETFROM:+0200
TZOFFSETTO:+0100
END:STANDARD
END:VTIMEZONE
BEGIN:VTIMEZONE
TZID:UTC
BEGIN:STANDARD
DTSTART:20250728T194104Z
TZOFFSETFROM:+0000
TZOFFSETTO:+0000
END:STANDARD
END:VTIMEZONE
BEGIN:VEVENT
UID:55-45
DTSTAMP:20260424T194104Z
SUMMARY:Schützenfest Ohlweiler
LOCATION:Ohlweiler Schützenstraße  Ohlweiler  55469
ORGANIZER;CN=Kai-Uwe Bohnet:MAILTO:kaubo@t-online.de
DTSTART;TZID=Europe/Berlin:20250713T130000
DTEND;TZID=Europe/Berlin:20250713T180000
X-ALT-DESC;FMTTYPE=TEXT/HTML:Das diesjährige Schützenfest in Ohlweiler mi
 t Beteiligung des SV Falke e.V. &amp;gt\;&amp;gt\; EINLADUNG Austragung folgender 
 Wettkämpfe mit Beteiligung des SV Falke e.V.: Wanderpreis KK-angestrichen
  (darin enthalten die Einzelmeisterschaft KK-angestrichen) Wanderkette KK-
 angestrichen (Hunsrücker Bundeskette) Wanderpokal LG-Auflage &amp;gt\;&amp;gt\; S
 CHIESSORDNUNG Standort: &amp;nbsp\;
CATEGORIES:Veranstaltung,  Wettkampf
URL;VALUE=URI:https://schuetzenverein-falke.de/mc-events/schuetzenfest-ohlw
 eiler/
METHOD:PUBLISH
END:VEVENT
END:VCALENDAR