BEGIN:VCALENDAR
VERSION:2.0
PRODID:spatie/icalendar-generator
DESCRIPTION:Veranstaltungen von SV Falke Sohren e.V.
X-WR-CALDESC:Veranstaltungen von SV Falke Sohren e.V.
REFRESH-INTERVAL;VALUE=DURATION:PT1440M
X-PUBLISHED-TTL:PT1440M
BEGIN:VTIMEZONE
TZID:Europe/Berlin
BEGIN:STANDARD
DTSTART:20241027T030000Z
TZOFFSETFROM:+0200
TZOFFSETTO:+0100
END:STANDARD
BEGIN:DAYLIGHT
DTSTART:20250330T020000Z
TZOFFSETFROM:+0100
TZOFFSETTO:+0200
END:DAYLIGHT
END:VTIMEZONE
BEGIN:VTIMEZONE
TZID:UTC
BEGIN:STANDARD
DTSTART:20250728T151257Z
TZOFFSETFROM:+0000
TZOFFSETTO:+0000
END:STANDARD
END:VTIMEZONE
BEGIN:VEVENT
UID:42-35
DTSTAMP:20260424T151257Z
SUMMARY:Lehrgang für Böllerschies-sen\, Vorderlader-schießen\, Wiederlad
 en
LOCATION:
ORGANIZER;CN=Kai-Uwe Bohnet:MAILTO:kaubo@t-online.de
DTSTART;TZID=Europe/Berlin;VALUE=DATE:20250329
DTEND;TZID=Europe/Berlin;VALUE=DATE:20250401
X-ALT-DESC;FMTTYPE=TEXT/HTML:Am 29.03\, 30.03. und am 31.03 2025 findet in 
 Bescheid ein Lehrgang für Wiederladen\, Böllerschießen und Vorderladers
 chießen statt. Bei Interesse bitte melden per E-Mail oder unter 0172 -974
  3376. Anmeldung Ausschreibung 2025 &amp;nbsp\;
CATEGORIES:Lehrgang
URL;VALUE=URI:https://schuetzenverein-falke.de/mc-events/lehrgang-fuer-boel
 lerschies-sen-vorderlader-schiessen-wiederladen/
METHOD:PUBLISH
END:VEVENT
END:VCALENDAR