BEGIN:VCALENDAR
VERSION:2.0
PRODID:spatie/icalendar-generator
DESCRIPTION:Veranstaltungen von SV Falke Sohren e.V.
X-WR-CALDESC:Veranstaltungen von SV Falke Sohren e.V.
REFRESH-INTERVAL;VALUE=DURATION:PT1440M
X-PUBLISHED-TTL:PT1440M
BEGIN:VTIMEZONE
TZID:Europe/Berlin
BEGIN:STANDARD
DTSTART:20251026T030000Z
TZOFFSETFROM:+0200
TZOFFSETTO:+0100
END:STANDARD
BEGIN:DAYLIGHT
DTSTART:20260329T020000Z
TZOFFSETFROM:+0100
TZOFFSETTO:+0200
END:DAYLIGHT
END:VTIMEZONE
BEGIN:VTIMEZONE
TZID:UTC
BEGIN:STANDARD
DTSTART:20250724T140439Z
TZOFFSETFROM:+0000
TZOFFSETTO:+0000
END:STANDARD
END:VTIMEZONE
BEGIN:VEVENT
UID:124-100
DTSTAMP:20260420T140439Z
SUMMARY:Arbeitseinsatz Schützenhaus
LOCATION:
ORGANIZER;CN=Kai-Uwe Bohnet:MAILTO:kaubo@t-online.de
DTSTART;TZID=Europe/Berlin;VALUE=DATE:20260328
DTEND;TZID=Europe/Berlin;VALUE=DATE:20260329
X-ALT-DESC;FMTTYPE=TEXT/HTML:Liebe Vereinsmitglieder\, am Samstag\, den 28.
  März 2026\, findet ab 09:00 Uhr ein großer Arbeitseinsatz rund um unser
  geliebtes Schützenhaus statt. Wir bitten Euch daher dringend um tatkräf
 tige Unterstützung\, denn es gibt einiges zu tun! Geplant sind unter ande
 rem folgende Arbeiten: Grünschnitt &amp;amp\; Rasenmähen Fertigstellung des 
 KK/LG Standes Instandsetzen des Kugelfangs Pistolenstand Hochdruckreiniger
 -Arbeiten Reinigung der&amp;hellip\;
CATEGORIES:Arbeitseinsatz
URL;VALUE=URI:https://schuetzenverein-falke.de/mc-events/arbeitseinsatz-sch
 uetzenhaus/
METHOD:PUBLISH
END:VEVENT
END:VCALENDAR